BEGIN:VCALENDAR
VERSION:2.0
METHOD:PUBLISH
PRODID:-//Agenda.ad//NONSGML v1.0//EN
BEGIN:VEVENT
CLASS:PUBLIC
UID:e51cbb55585f4199a5b79f78cb9bcf27@agenda.ad
DTSTAMP:20260424T091756Z
DTSTART:20191201T230000Z
DTEND:20191201T230000Z
SUMMARY:Contacontes&nbsp;<span>"El Nadal del Pere Perot"</span>
DESCRIPTION:Conte infantil "El Nadal del Pere Perot", amb Eva Gonz&aacut
 e;lez.\n\nMés informació\nhttps://www.agenda.ad/activitat/
 canillo/activitats-infantils/conta-contes \n\n\nOrganitza\n
 Departament de Cultura i Esports del comú de Canillo
LOCATION:Biblioteca de Canillo
SEQUENCE:0
TRANSP:OPAQUE
X-ALT-DESC;FMTTYPE=text/html:<!DOCTYPE HTML PUBLIC "-//W3C//DTD HTML 3.2//EN"><HTML><HEAD
 ><TITLE></TITLE></HEAD><BODY><FONT FACE="Arial" SIZE=2>Conte
  infantil "El Nadal del Pere Perot", amb Eva Gonz&aacute;lez
 .<br/><br/><b>Més informació</b><br/><a href="https://www.
 agenda.ad/activitat/canillo/activitats-infantils/conta-conte
 s ">https://www.agenda.ad/activitat/canillo/activitats-infa
 ntils/conta-contes </a><br/><br/><br/><b>Organitza</b><br/>
 Departament de Cultura i Esports del comú de Canillo</FONT>
 </BODY></HTML>
END:VEVENT
END:VCALENDAR